BEGIN:VCALENDAR
PRODID:-//Microsoft Corporation//Outlook 12.0 MIMEDIR//EN
VERSION:2.0
CALSCALE:GREGORIAN
BEGIN:VEVENT
UID: 9467d411-e44e-41dd-85b9-e5f3bae71ae1
SUMMARY:VANALINNA KOOLI PLAYBACK 2026
DTSTAMP:20260326T170000
DTSTART:20260326T170000
DTEND:20260326T200000
LOCATION:
DESCRIPTION: <p><strong>Link: </strong>https://kvk.edu.ee/sundmuste-kalender/vanalinna-kooli-playback-2026</p><p><strong>Hind: </strong></p>
STATUS:CONFIRMED
SEQUENCE:3
X-ALT-DESC;FMTTYPE=text/html:<p><strong>Link: </strong>https://kvk.edu.ee/sundmuste-kalender/vanalinna-kooli-playback-2026</p><p><strong>Hind: </strong></p>
X-MICROSOFT-CDO-BUSYSTATUS:OOF
X-MICROSOFT-CDO-IMPORTANCE:1
X-MICROSOFT-DISALLOW-COUNTER:FALSE
X-MS-OLK-ALLOWEXTERNCHECK:TRUE
X-MS-OLK-CONFTYPE:0
X-MICROSOFT-CDO-ALLDAYEVENT:
X-MICROSOFT-MSNCALENDAR-ALLDAYEVENT:
END:VEVENT
END:VCALENDAR